BEGIN:VCALENDAR
VERSION:2.0
PRODID:-//Tukios.com/
BEGIN:VEVENT
UID:2778bf8b-310e-4601-b1ba-4c5070cdba37@obits.jhchurchill.com
DTSTAMP:20260422T234253Z
DTSTART:20260502T160000Z
DTEND:20260502T180000Z
SUMMARY:Memorial Visitation
DESCRIPTION:
URL:https://obits.jhchurchill.com/esther-donoho
LOCATION: 201 S 3rd St  Murray KY 42071
GEO:36.6096021;-88.3008828
END:VEVENT
END:VCALENDAR